BEGIN:VCALENDAR
VERSION:2.0
PRODID:-//Friends of Murphy - ECPv6.15.20//NONSGML v1.0//EN
CALSCALE:GREGORIAN
METHOD:PUBLISH
X-WR-CALNAME:Friends of Murphy
X-ORIGINAL-URL:https://friendsofmurphy.org
X-WR-CALDESC:Events for Friends of Murphy
REFRESH-INTERVAL;VALUE=DURATION:PT1H
X-Robots-Tag:noindex
X-PUBLISHED-TTL:PT1H
BEGIN:VTIMEZONE
TZID:America/Chicago
BEGIN:DAYLIGHT
TZOFFSETFROM:-0600
TZOFFSETTO:-0500
TZNAME:CDT
DTSTART:20240310T080000
END:DAYLIGHT
BEGIN:STANDARD
TZOFFSETFROM:-0500
TZOFFSETTO:-0600
TZNAME:CST
DTSTART:20241103T070000
END:STANDARD
BEGIN:DAYLIGHT
TZOFFSETFROM:-0600
TZOFFSETTO:-0500
TZNAME:CDT
DTSTART:20250309T080000
END:DAYLIGHT
BEGIN:STANDARD
TZOFFSETFROM:-0500
TZOFFSETTO:-0600
TZNAME:CST
DTSTART:20251102T070000
END:STANDARD
BEGIN:DAYLIGHT
TZOFFSETFROM:-0600
TZOFFSETTO:-0500
TZNAME:CDT
DTSTART:20260308T080000
END:DAYLIGHT
BEGIN:STANDARD
TZOFFSETFROM:-0500
TZOFFSETTO:-0600
TZNAME:CST
DTSTART:20261101T070000
END:STANDARD
END:VTIMEZONE
BEGIN:VEVENT
DTSTART;TZID=America/Chicago:20251110T083000
DTEND;TZID=America/Chicago:20251110T153000
DTSTAMP:20260420T092944
CREATED:20251029T025007Z
LAST-MODIFIED:20251029T025007Z
UID:5612-1762763400-1762788600@friendsofmurphy.org
SUMMARY:Murphy Book Fair
DESCRIPTION:Murphy School Annual Book Fair\nThe Murphy Book Fair is coming soon! Join us Nov. 10 and Nov. 12–14\, 8:30 a.m.–3:30 p.m. on the first floor behind the auditorium. Shop books\, grow home libraries\, and support Murphy! Volunteers needed—sign up using the link provided to help make the fair a success!
URL:https://friendsofmurphy.org/event/murphy-book-fair/
LOCATION:Murphy School\, 3539 W Grace St\, Chicago\, IL\, 60618
END:VEVENT
BEGIN:VEVENT
DTSTART;TZID=America/Chicago:20251107T153000
DTEND;TZID=America/Chicago:20251107T170000
DTSTAMP:20260420T092944
CREATED:20251029T024624Z
LAST-MODIFIED:20251029T024624Z
UID:5610-1762529400-1762534800@friendsofmurphy.org
SUMMARY:Murphy Dance:  PreK - Grade 5
DESCRIPTION:Murphy Dance – PreK to Grade 5\nGet ready to dance\, Murphy! Join us Friday\, November 7\, from 3:30–5 p.m. for a fun school dance for PreK–Grade 5 students featuring pizza\, crafts\, a dance battle\, and games. A signed permission slip and $5 are required. PreK and K students must have an approved adult chaperone listed on the slip. Slips go home October 31. \nVolunteers are needed to help with setup\, chaperoning\, and cleanup. Please contact friendsofmurphyschool@gmail.com or sign up on the permission slip to lend a hand!
URL:https://friendsofmurphy.org/event/murphy-dance-prek-grade-5/
LOCATION:Murphy School\, 3539 W Grace St\, Chicago\, IL\, 60618
END:VEVENT
BEGIN:VEVENT
DTSTART;TZID=America/Chicago:20250509T130000
DTEND;TZID=America/Chicago:20250509T150000
DTSTAMP:20260420T092944
CREATED:20250317T151641Z
LAST-MODIFIED:20250317T151641Z
UID:5591-1746795600-1746802800@friendsofmurphy.org
SUMMARY:Friends of Murphy Walkathon
DESCRIPTION:The walkathon is an annual fundraising event in which students raise funds through sponsorship and then parade through the neighborhood in celebration of our community. \nPlease join us by sponsoring\, volunteering\, or cheering for the students.
URL:https://friendsofmurphy.org/event/friends-of-murphy-walkathon-2/
LOCATION:Murphy School\, 3539 W Grace St\, Chicago\, IL\, 60618
END:VEVENT
BEGIN:VEVENT
DTSTART;TZID=America/Chicago:20250428T193000
DTEND;TZID=America/Chicago:20250428T203000
DTSTAMP:20260420T092944
CREATED:20250317T145456Z
LAST-MODIFIED:20250317T145456Z
UID:5589-1745868600-1745872200@friendsofmurphy.org
SUMMARY:April 2025 FOM Meeting
DESCRIPTION:Meeting will be held at Honning (3932 North Elston). \nEveryone is welcome – please join us in person or online. \nPlease join us or reach out to us and join the fun!
URL:https://friendsofmurphy.org/event/april-2025-fom-meeting/
LOCATION:Honning\, 3932 N Elston\, Chicago\, IL\, 60618\, United States
END:VEVENT
END:VCALENDAR