BEGIN:VCALENDAR
VERSION:2.0
PRODID:-//Friends of Murphy - ECPv6.15.20//NONSGML v1.0//EN
CALSCALE:GREGORIAN
METHOD:PUBLISH
X-ORIGINAL-URL:https://friendsofmurphy.org
X-WR-CALDESC:Events for Friends of Murphy
REFRESH-INTERVAL;VALUE=DURATION:PT1H
X-Robots-Tag:noindex
X-PUBLISHED-TTL:PT1H
BEGIN:VTIMEZONE
TZID:America/Chicago
BEGIN:DAYLIGHT
TZOFFSETFROM:-0600
TZOFFSETTO:-0500
TZNAME:CDT
DTSTART:20250309T080000
END:DAYLIGHT
BEGIN:STANDARD
TZOFFSETFROM:-0500
TZOFFSETTO:-0600
TZNAME:CST
DTSTART:20251102T070000
END:STANDARD
BEGIN:DAYLIGHT
TZOFFSETFROM:-0600
TZOFFSETTO:-0500
TZNAME:CDT
DTSTART:20260308T080000
END:DAYLIGHT
BEGIN:STANDARD
TZOFFSETFROM:-0500
TZOFFSETTO:-0600
TZNAME:CST
DTSTART:20261101T070000
END:STANDARD
BEGIN:DAYLIGHT
TZOFFSETFROM:-0600
TZOFFSETTO:-0500
TZNAME:CDT
DTSTART:20270314T080000
END:DAYLIGHT
BEGIN:STANDARD
TZOFFSETFROM:-0500
TZOFFSETTO:-0600
TZNAME:CST
DTSTART:20271107T070000
END:STANDARD
END:VTIMEZONE
BEGIN:VEVENT
DTSTART;TZID=America/Chicago:20260508T130000
DTEND;TZID=America/Chicago:20260508T150000
DTSTAMP:20260420T014616
CREATED:20260409T002658Z
LAST-MODIFIED:20260409T165743Z
UID:5697-1778245200-1778252400@friendsofmurphy.org
SUMMARY:Walk-a-Thon
DESCRIPTION:  \nMurphy Elementary’s annual Walkathon is back! The walkathon is Murphy’s annual fundraiser to support programs and school improvements for all students. This year\, we’re celebrating the strength and pride of our community with “Chicago Strong\, Murphy Proud.” \n  \nSupport our students by sponsoring a walker. Every donation helps fund programs and experiences that benefit all Murphy students.  \n  \nDonate Now: https://www.zeffy.com/en-US/donation-form/walkathon–2026-4 \n  \nStudents can earn fun prizes as they raise funds\, and on Friday\, May 8\, they’ll come together with staff to walk a two mile route through the neighborhood in a celebration of our school spirit. \nJoin us in showing what it means to be Chicago Strong and Murphy Proud! \n  \nWe are also looking for volunteers during the walkathon such as crossing guards. Sign up here: https://www.signupgenius.com/go/8050C4AADAC29A5FF2-63416259-murphy \n  \nPlease reach out to friendsofmurphyschool@gmail.com with any questions.  \n___________________________________________________________________________ \nLa Caminata Anual de Murphy Elementary está de regreso. La caminata es la recaudación de fondos anual de Murphy para apoyar programas y mejoras escolares para todos los estudiantes. Este año celebramos la fortaleza y el orgullo de nuestra comunidad con el tema “Chicago Fuerte y Orgulloso de Murphy.” \nApoye a nuestros estudiantes patrocinando a un participante. Cada donación ayuda a financiar programas y experiencias que benefician a todos los estudiantes de Murphy.  \nDone ahora: https://www.zeffy.com/en-US/donation-form/walkathon–2026-4 \nLos estudiantes pueden ganar premios divertidos mientras recaudan fondos\, y el viernes 8 de mayo se reunirán con el personal para caminar una ruta de dos millas por el vecindario en una celebración del espíritu de nuestra escuela. Únase a nosotros para demostrar lo que significa ser Chicago Fuerte y Orgulloso de Murphy. \nTambién buscamos voluntarios para cruces peatonales. Inscríbase aquí: https://www.signupgenius.com/go/8050C4AADAC29A5FF2-63416259-murphy \nSi tiene alguna pregunta\, comuníquese con friendsofmurphyschool@gmail.com.
URL:https://friendsofmurphy.org/event/walk-a-thon/
END:VEVENT
END:VCALENDAR